BEGIN:VCALENDAR
VERSION:2.0
PRODID:Events Booking
BEGIN:VEVENT
UID:69ecb027490be
SUMMARY:2. Lauf der RSN 2026 am 09.05.2026 beim AMC Meißen e.V. (Kids Race
 )
DESCRIPTION:Freies Training ist je nach Verein schon am Freitag möglich.

  Die Zeiten entnehmt Ihr Bitte der Ankündigung des jeweiligen Vereins
LOCATION:Großenhainer Str\, 01662 Meißen\, Deutschland
DTSTART:20260509T060000Z
DTEND:20260509T180000Z
DTSTAMP:20260425T141431Z
ORGANIZER;CN=Rennserie Nord e.V.:MAILTO:info@rsn-ev.de
GEO:51.182445;13.494299
X-APPLE-STRUCTURED-LOCATION;VALUE=URI;X-ADDRESS=Großenhainer Str\, 01662 M
 eißen\, Deutschland;X-APPLE-RADIUS=72;X-TITLE=Automodellclub Meißen e.V.
 :51.182445;13.494299
END:VEVENT
END:VCALENDAR