BEGIN:VCALENDAR
VERSION:2.0
PRODID:Events Booking
BEGIN:VEVENT
UID:69ecb14fc5366
SUMMARY:3. Lauf der RSN 2026 am 06.06.2026 beim AMC RC Racing Club Sprember
 g e.V. (Kids Race)
DESCRIPTION:Freies Training ist je nach Verein schon am Freitag möglich.

  Die Zeiten entnehmt Ihr Bitte der Ankündigung des jeweiligen Vereins
LOCATION:Drebkauer Str. 9B\, 03130 Spremberg
DTSTART:20260606T060000Z
DTEND:20260509T180000Z
DTSTAMP:20260318T001608Z
ORGANIZER;CN=Rennserie Nord e.V.:MAILTO:info@rsn-ev.de
GEO:51.585555;14.328042
X-APPLE-STRUCTURED-LOCATION;VALUE=URI;X-ADDRESS=Drebkauer Str. 9B\, 03130 S
 premberg;X-APPLE-RADIUS=72;X-TITLE=RC Spremberg e.V.:51.585555;14.328042
END:VEVENT
END:VCALENDAR